BEGIN:VCALENDAR
VERSION:2.0
PRODID:-//Ciência no Ar - Programa de Extensão - UFMG
CALSCALE:GREGORIAN
METHOD:PUBLISH
X-WR-CALNAME:Ciência no Ar - Programa de Extensão - UFMG
X-ORIGINAL-URL:https://www.ufmg.br/ciencianoar/conteudo/abelhas-e-mais-abelhas/
X-WR-CALDESC:Abelhas e mais abelhas
BEGIN:VEVENT
DTSTART:
DTEND:
SUMMARY:Abelhas e mais abelhas
DESCRIPTION:Existem centenas de espécies de abelha no Brasil, porém a que melhor conhecemos é a européia. Pode parecer estranho, mas esta espécie foi trazida para o nosso país de propósito! Ouça o programa completo para saber mais sobre o assunto!

LOCATION:
END:VEVENT
END:VCALENDAR
