BEGIN:VCALENDAR
VERSION:2.0
PRODID:-//Ciência no Ar - Programa de Extensão - UFMG
CALSCALE:GREGORIAN
METHOD:PUBLISH
X-WR-CALNAME:Ciência no Ar - Programa de Extensão - UFMG
X-ORIGINAL-URL:https://www.ufmg.br/ciencianoar/conteudo/hum-que-chocolate-gostoso/
X-WR-CALDESC:Hum… que chocolate gostoso!
BEGIN:VEVENT
DTSTART:
DTEND:
SUMMARY:Hum… que chocolate gostoso!
DESCRIPTION:Sabe aquela sensação boa de quando você come um alimento bem gostoso? O responsável por essa sensação é o paladar.  Ouça o programa completo para saber mais sobre o assunto!
LOCATION:
END:VEVENT
END:VCALENDAR
