BEGIN:VCALENDAR
VERSION:2.0
PRODID:-//Ciência no Ar - Programa de Extensão - UFMG
CALSCALE:GREGORIAN
METHOD:PUBLISH
X-WR-CALNAME:Ciência no Ar - Programa de Extensão - UFMG
X-ORIGINAL-URL:https://www.ufmg.br/ciencianoar/conteudo/imortalidade-e-possivel/
X-WR-CALDESC:Imortalidade: É possível?
BEGIN:VEVENT
DTSTART:
DTEND:
SUMMARY:Imortalidade: É possível?
DESCRIPTION:Congelar corpos para serem ressuscitados no futuro já é uma realidade para muitos que creem na imortalidade como apenas uma questão de tempo de amadurecimento das pesquisas. Mas será que viver eternamente é possível? Ouça o programa completo para saber mais sobre o assunto!
LOCATION:
END:VEVENT
END:VCALENDAR
