BEGIN:VCALENDAR
VERSION:2.0
PRODID:-//Ciência no Ar - Programa de Extensão - UFMG
CALSCALE:GREGORIAN
METHOD:PUBLISH
X-WR-CALNAME:Ciência no Ar - Programa de Extensão - UFMG
X-ORIGINAL-URL:https://www.ufmg.br/ciencianoar/conteudo/inspire-expire/
X-WR-CALDESC:Inspire… Expire…
BEGIN:VEVENT
DTSTART:
DTEND:
SUMMARY:Inspire… Expire…
DESCRIPTION:A respiração que ocorre nos pulmões envolvem diferentes músculos do nosso corpo, como o diafragma e os músculos intercostais.  Ouça o programa completo para saber mais sobre o assunto!

LOCATION:
END:VEVENT
END:VCALENDAR
