BEGIN:VCALENDAR
VERSION:2.0
PRODID:-//Ciência no Ar - Programa de Extensão - UFMG
CALSCALE:GREGORIAN
METHOD:PUBLISH
X-WR-CALNAME:Ciência no Ar - Programa de Extensão - UFMG
X-ORIGINAL-URL:https://www.ufmg.br/ciencianoar/conteudo/inteligencia-a-maior-arma-do-polvo/
X-WR-CALDESC:Inteligência: a maior arma do polvo
BEGIN:VEVENT
DTSTART:
DTEND:
SUMMARY:Inteligência: a maior arma do polvo
DESCRIPTION:O polvo é um animal extremamente inteligente, o seu cérebro é o maior entre todos os invertebrados. Ouça o programa completo para saber mais sobre o assunto!

LOCATION:
END:VEVENT
END:VCALENDAR
