BEGIN:VCALENDAR
VERSION:2.0
PRODID:-//Ciência no Ar - Programa de Extensão - UFMG
CALSCALE:GREGORIAN
METHOD:PUBLISH
X-WR-CALNAME:Ciência no Ar - Programa de Extensão - UFMG
X-ORIGINAL-URL:https://www.ufmg.br/ciencianoar/conteudo/conhecendo-a-cannabis-sativa/
X-WR-CALDESC:Conhecendo a Cannabis sativa
BEGIN:VEVENT
DTSTART:
DTEND:
SUMMARY:Conhecendo a Cannabis sativa
DESCRIPTION:A Cannabis sativa, normalmente é associada à imagens negativas, porém a planta possui  possui efeito analgésico, anticonvulsivante e tranquilizante. O interesse científico é real, porém a legislação envolvendo a Cannabis pode dificultar a pesquisa. Ouça o programa completo para saber mais sobre o assunto!

LOCATION:
END:VEVENT
END:VCALENDAR
