BEGIN:VCALENDAR
VERSION:2.0
PRODID:-//Ciência no Ar - Programa de Extensão - UFMG
CALSCALE:GREGORIAN
METHOD:PUBLISH
X-WR-CALNAME:Ciência no Ar - Programa de Extensão - UFMG
X-ORIGINAL-URL:https://www.ufmg.br/ciencianoar/conteudo/conversa-corporal-das-formigas/
X-WR-CALDESC:Conversa corporal das formigas
BEGIN:VEVENT
DTSTART:
DTEND:
SUMMARY:Conversa corporal das formigas
DESCRIPTION:Para serem tão organizadas, as formigas devem ter alguma forma de comunicação, porém ninguém ouve vozes de formigas conversando. Na verdade esses insetos se comunicam por meio de formas alternativas e interessantes! Ouça o programa completo para saber mais sobre o assunto!

LOCATION:
END:VEVENT
END:VCALENDAR
