BEGIN:VCALENDAR
VERSION:2.0
PRODID:-//Ciência no Ar - Programa de Extensão - UFMG
CALSCALE:GREGORIAN
METHOD:PUBLISH
X-WR-CALNAME:Ciência no Ar - Programa de Extensão - UFMG
X-ORIGINAL-URL:https://www.ufmg.br/ciencianoar/conteudo/qualidade-de-vida-e-biodiversidade/
X-WR-CALDESC:Qualidade de Vida e Biodiversidade
BEGIN:VEVENT
DTSTART:
DTEND:
SUMMARY:Qualidade de Vida e Biodiversidade
DESCRIPTION:É estranho pensar que o café o pão e o leite que normalmente estão na sua mesa são produtos da biodiversidade? Apesar de comprarmos nossos alimentos empacotados e industrializados, se pensarmos em como eles foram produzidos, veremos que tudo depende em maior ou menor grau da biodiversidade. Ouça o programa completo para saber mais sobre o assunto!

LOCATION:
END:VEVENT
END:VCALENDAR
