BEGIN:VCALENDAR
VERSION:2.0
PRODID:-//Ciência no Ar - Programa de Extensão - UFMG
CALSCALE:GREGORIAN
METHOD:PUBLISH
X-WR-CALNAME:Ciência no Ar - Programa de Extensão - UFMG
X-ORIGINAL-URL:https://www.ufmg.br/ciencianoar/conteudo/quer-emagrecer/
X-WR-CALDESC:Quer emagrecer?
BEGIN:VEVENT
DTSTART:
DTEND:
SUMMARY:Quer emagrecer?
DESCRIPTION:A obesidade tem se tornado epidemia em vários países, com isso crescem os esforços dos cientistas para entender essa doença que só nos Estados Unidos mata mais de 400 mil pessoas por ano. A obesidade acontece quando o consumo de energia através dos alimentos excede em muito o gasto de energia durante as atividades do dia a dia. Ouça o programa completo para saber mais sobre o assunto!


LOCATION:
END:VEVENT
END:VCALENDAR
