BEGIN:VCALENDAR
VERSION:2.0
PRODID:-//Ciência no Ar - Programa de Extensão - UFMG
CALSCALE:GREGORIAN
METHOD:PUBLISH
X-WR-CALNAME:Ciência no Ar - Programa de Extensão - UFMG
X-ORIGINAL-URL:https://www.ufmg.br/ciencianoar/conteudo/reflorestamento-que-funciona/
X-WR-CALDESC:Reflorestamento que funciona
BEGIN:VEVENT
DTSTART:
DTEND:
SUMMARY:Reflorestamento que funciona
DESCRIPTION:Você acreditaria que uma área utilizada como pasto ou plantação de cana, pode voltar a ser a exuberante mata que era antes? A pesquisa elaborada pelo professor José Pires do laboratório de Fisiologia Vegetal da UFMG mostra que sim! Os pesquisadores trabalharam no município de Lagoa da Prata em áreas devastadas pela plantação de Cana de Açúcar e a criação de Gado, essas áreas ficam na beira de rios e são chamadas de matas ciliares. Ouça o programa completo para saber mais sobre o assunto!

LOCATION:
END:VEVENT
END:VCALENDAR
