BEGIN:VCALENDAR
VERSION:2.0
PRODID:-//Ciência no Ar - Programa de Extensão - UFMG
CALSCALE:GREGORIAN
METHOD:PUBLISH
X-WR-CALNAME:Ciência no Ar - Programa de Extensão - UFMG
X-ORIGINAL-URL:https://www.ufmg.br/ciencianoar/conteudo/cafe-doce/
X-WR-CALDESC:Café Doce
BEGIN:VEVENT
DTSTART:
DTEND:
SUMMARY:Café Doce
DESCRIPTION:Você já notou que quando o café está bem quente, o açúcar que colocamos dissolve muito mais rápido? Ouça o programa completo para saber mais sobre o assunto!

LOCATION:
END:VEVENT
END:VCALENDAR
