BEGIN:VCALENDAR
VERSION:2.0
PRODID:-//Ciência no Ar - Programa de Extensão - UFMG
CALSCALE:GREGORIAN
METHOD:PUBLISH
X-WR-CALNAME:Ciência no Ar - Programa de Extensão - UFMG
X-ORIGINAL-URL:https://www.ufmg.br/ciencianoar/conteudo/simbiose-nos-quadrinhos-venom/
X-WR-CALDESC:Simbiose nos Quadrinhos: Venom
BEGIN:VEVENT
DTSTART:
DTEND:
SUMMARY:Simbiose nos Quadrinhos: Venom
DESCRIPTION:Você já ouviu falar no personagem Venom das histórias do Homem-Aranha? Ele é um vilão e resultado da simbiose de um ser humano chamado Eddie Brock com uma criatura Alienígena, que for trazida à terra pelo próprio Homem-Aranha. A palavra simbiose quer dizer viver junto, mas como será que ela ocorre neste caso de ficção e na própria natureza? Ouça o programa completo para saber mais sobre o assunto!


LOCATION:
END:VEVENT
END:VCALENDAR
