BEGIN:VCALENDAR
VERSION:2.0
PRODID:-//Ciência no Ar - Programa de Extensão - UFMG
CALSCALE:GREGORIAN
METHOD:PUBLISH
X-WR-CALNAME:Ciência no Ar - Programa de Extensão - UFMG
X-ORIGINAL-URL:https://www.ufmg.br/ciencianoar/conteudo/sindrome-do-mega-na-doenca-de-chagas/
X-WR-CALDESC:Síndrome do mega na Doença de Chagas
BEGIN:VEVENT
DTSTART:
DTEND:
SUMMARY:Síndrome do mega na Doença de Chagas
DESCRIPTION: Você já deve ter ouvido falar em doença de Chagas não é? Essa doença transmitida principalmente pelo inseto Barbeiro é ainda muito comum na América Latina. Um dos problemas mais conhecidos causados por ela é o aumento do coração e o enfraquecimento da sua musculatura, mas essa doença causa também graves problemas no sistema digestivo. Ouça o programa completo para saber mais sobre o assunto!

LOCATION:
END:VEVENT
END:VCALENDAR
