BEGIN:VCALENDAR
VERSION:2.0
PRODID:-//Ciência no Ar - Programa de Extensão - UFMG
CALSCALE:GREGORIAN
METHOD:PUBLISH
X-WR-CALNAME:Ciência no Ar - Programa de Extensão - UFMG
X-ORIGINAL-URL:https://www.ufmg.br/ciencianoar/conteudo/fermento-para-cachaca/
X-WR-CALDESC:Fermento para cachaça
BEGIN:VEVENT
DTSTART:
DTEND:
SUMMARY:Fermento para cachaça
DESCRIPTION:No interior de Minas Gerais o caldo de cana é tradicionalmente transformado em cachaça. E seria impossível fabricar a cachaça sem a presença de um micro-organismo, a Saccharomyces cerevisiae, uma levedura da mesma espécie do fermento de pão. Ouça o programa para saber mais sobre esse assunto!

LOCATION:
END:VEVENT
END:VCALENDAR
