BEGIN:VCALENDAR
VERSION:2.0
PRODID:-//Ciência no Ar - Programa de Extensão - UFMG
CALSCALE:GREGORIAN
METHOD:PUBLISH
X-WR-CALNAME:Ciência no Ar - Programa de Extensão - UFMG
X-ORIGINAL-URL:https://www.ufmg.br/ciencianoar/conteudo/narizinho-narigao/
X-WR-CALDESC:Narizinho, Narigão
BEGIN:VEVENT
DTSTART:
DTEND:
SUMMARY:Narizinho, Narigão
DESCRIPTION:Além de sentir o doce cheiro de um perfume ou um odor desagradável, é através dele que o ar entra em nosso corpo e chega até os pulmões. Ouça o programa para saber mais sobre esse assunto!
LOCATION:
END:VEVENT
END:VCALENDAR
