BEGIN:VCALENDAR
VERSION:2.0
PRODID:-//Ciência no Ar - Programa de Extensão - UFMG
CALSCALE:GREGORIAN
METHOD:PUBLISH
X-WR-CALNAME:Ciência no Ar - Programa de Extensão - UFMG
X-ORIGINAL-URL:https://www.ufmg.br/ciencianoar/conteudo/linhagens-e-arvores/
X-WR-CALDESC:Linhagens e Árvores
BEGIN:VEVENT
DTSTART:
DTEND:
SUMMARY:Linhagens e Árvores
DESCRIPTION:Harber tem formação dupla em filosofia e biologia e, entre seus temas de interesse, estão pesquisas relacionadas aos conceitos de espécie e individualidade biológica. Ouça o programa para saber mais sobre esse assunto!
LOCATION:
END:VEVENT
END:VCALENDAR
