BEGIN:VCALENDAR
VERSION:2.0
PRODID:-//Ciência no Ar - Programa de Extensão - UFMG
CALSCALE:GREGORIAN
METHOD:PUBLISH
X-WR-CALNAME:Ciência no Ar - Programa de Extensão - UFMG
X-ORIGINAL-URL:https://www.ufmg.br/ciencianoar/conteudo/a-pilula-do-cancer/
X-WR-CALDESC:A pílula do câncer
BEGIN:VEVENT
DTSTART:
DTEND:
SUMMARY:A pílula do câncer
DESCRIPTION:A fosfoetanolamina é conhecida popularmente por “pílula do câncer”. Mas afinal, o que é fosfoetanolamina? Ouça o programa para saber mais sobre esse assunto!

LOCATION:
END:VEVENT
END:VCALENDAR
