BEGIN:VCALENDAR
VERSION:2.0
PRODID:-//Ciência no Ar - Programa de Extensão - UFMG
CALSCALE:GREGORIAN
METHOD:PUBLISH
X-WR-CALNAME:Ciência no Ar - Programa de Extensão - UFMG
X-ORIGINAL-URL:https://www.ufmg.br/ciencianoar/conteudo/a-sociedade-dos-macacos/
X-WR-CALDESC:A sociedade dos macacos
BEGIN:VEVENT
DTSTART:
DTEND:
SUMMARY:A sociedade dos macacos
DESCRIPTION:Nós já sabemos que humanos e outros primatas têm um ancestral em comum, e por isso temos muitas semelhanças. Mas será que as sociedades dos macacos se parecem com a nossa? Ouça o programa para saber mais sobre esse assunto!

LOCATION:
END:VEVENT
END:VCALENDAR
