BEGIN:VCALENDAR
VERSION:2.0
PRODID:-//Ciência no Ar - Programa de Extensão - UFMG
CALSCALE:GREGORIAN
METHOD:PUBLISH
X-WR-CALNAME:Ciência no Ar - Programa de Extensão - UFMG
X-ORIGINAL-URL:https://www.ufmg.br/ciencianoar/conteudo/vida-social-e-memoria/
X-WR-CALDESC:Vida social e memória
BEGIN:VEVENT
DTSTART:
DTEND:
SUMMARY:Vida social e memória
DESCRIPTION:Existem vários tipos de memória, e uma delas envolve a nossa capacidade de reconhecer indivíduos da mesma espécie. Esta é a chamada memória social. Ouça o programa para saber mais sobre esse assunto!


LOCATION:
END:VEVENT
END:VCALENDAR
