BEGIN:VCALENDAR
VERSION:2.0
PRODID:-//Ciência no Ar - Programa de Extensão - UFMG
CALSCALE:GREGORIAN
METHOD:PUBLISH
X-WR-CALNAME:Ciência no Ar - Programa de Extensão - UFMG
X-ORIGINAL-URL:https://www.ufmg.br/ciencianoar/conteudo/voce-conhece-o-tardigrado/
X-WR-CALDESC:Você conhece o tardígrado?
BEGIN:VEVENT
DTSTART:
DTEND:
SUMMARY:Você conhece o tardígrado?
DESCRIPTION:Um animal que consegue viver nos mais profundos mares e nas mais geladas montanhas. Não, não é o urso polar e nem uma bactéria: é o tardígrado! Ouça o programa para saber mais sobre esse assunto!
LOCATION:
END:VEVENT
END:VCALENDAR
