BEGIN:VCALENDAR
VERSION:2.0
PRODID:-//Ciência no Ar - Programa de Extensão - UFMG
CALSCALE:GREGORIAN
METHOD:PUBLISH
X-WR-CALNAME:Ciência no Ar - Programa de Extensão - UFMG
X-ORIGINAL-URL:https://www.ufmg.br/ciencianoar/conteudo/hercules/
X-WR-CALDESC:Hércules
BEGIN:VEVENT
DTSTART:
DTEND:
SUMMARY:Hércules
DESCRIPTION:Quando chamamos uma pessoa de musculosa queremos dizes que seus músculos estriados esqueléticos estão bem desenvolvidos. Esses músculos estão ligados aos ossos e permitem a realização de movimentos, como caminhar e carregar uma caixa. Ouça o programa para saber mais sobre esse assunto!
LOCATION:
END:VEVENT
END:VCALENDAR
