BEGIN:VCALENDAR
VERSION:2.0
PRODID:-//Ciência no Ar - Programa de Extensão - UFMG
CALSCALE:GREGORIAN
METHOD:PUBLISH
X-WR-CALNAME:Ciência no Ar - Programa de Extensão - UFMG
X-ORIGINAL-URL:https://www.ufmg.br/ciencianoar/conteudo/formigas-e-feromonios/
X-WR-CALDESC:Formigas e feromônios
BEGIN:VEVENT
DTSTART:
DTEND:
SUMMARY:Formigas e feromônios
DESCRIPTION:
Resumo:  Ninguém ouve voz de formigas conversando, porém esses insetos se comunicam por meio de formas alternativas interessantes. Uma maneira muito comum de comunicação entre formigas é pela liberação de feromônios. Ouça o programa para saber mais sobre esse assunto!

LOCATION:
END:VEVENT
END:VCALENDAR
