BEGIN:VCALENDAR
VERSION:2.0
PRODID:-//Ciência no Ar - Programa de Extensão - UFMG
CALSCALE:GREGORIAN
METHOD:PUBLISH
X-WR-CALNAME:Ciência no Ar - Programa de Extensão - UFMG
X-ORIGINAL-URL:https://www.ufmg.br/ciencianoar/conteudo/invasoes-biologicas/
X-WR-CALDESC:Invasões Biológicas
BEGIN:VEVENT
DTSTART:
DTEND:
SUMMARY:Invasões Biológicas
DESCRIPTION:O Achatina fulica, caramujo gigante africano, é originário da África e foi trazido para o Brasil durante uma feira agropecuária no final da década de 80. A intenção era criar esse caramujo para o consumo humano em substituição ao escargot, uma iguaria da comida francesa. Ouça o programa para saber mais sobre esse assunto!

LOCATION:
END:VEVENT
END:VCALENDAR
