BEGIN:VCALENDAR
VERSION:2.0
PRODID:-//Ciência no Ar - Programa de Extensão - UFMG
CALSCALE:GREGORIAN
METHOD:PUBLISH
X-WR-CALNAME:Ciência no Ar - Programa de Extensão - UFMG
X-ORIGINAL-URL:https://www.ufmg.br/ciencianoar/conteudo/e-relativo/
X-WR-CALDESC:É relativo!
BEGIN:VEVENT
DTSTART:
DTEND:
SUMMARY:É relativo!
DESCRIPTION:O tempo é uma coisa curiosa. Quando você está se divertindo, em uma festa com seus amigos, por exemplo, ele parece passar super rápido, no entanto, quando você está em uma situação tediosa ele parece desacelerar, e passar em um ritmo leeento. É claro que nestas situações, o que muda não é o tempo, mas a sua percepção dele, mas você sabia que o tempo passa de maneira diferente em diversos lugares no universo? Ouça o programa para saber mais sobre esse assunto!
LOCATION:
END:VEVENT
END:VCALENDAR
