BEGIN:VCALENDAR
VERSION:2.0
PRODID:-//Ciência no Ar - Programa de Extensão - UFMG
CALSCALE:GREGORIAN
METHOD:PUBLISH
X-WR-CALNAME:Ciência no Ar - Programa de Extensão - UFMG
X-ORIGINAL-URL:https://www.ufmg.br/ciencianoar/conteudo/tudo-que-e-genetico-e-hereditario/
X-WR-CALDESC:Tudo Que É Genético É Hereditário?
BEGIN:VEVENT
DTSTART:
DTEND:
SUMMARY:Tudo Que É Genético É Hereditário?
DESCRIPTION:O que exatamente é passado de uma geração para outra? O câncer pode ser transmitido geneticamente de pai para filho? Isso e mais você descobre ouvindo o programa completo. Confira!
LOCATION:
END:VEVENT
END:VCALENDAR
