BEGIN:VCALENDAR
VERSION:2.0
PRODID:-//Ciência no Ar - Programa de Extensão - UFMG
CALSCALE:GREGORIAN
METHOD:PUBLISH
X-WR-CALNAME:Ciência no Ar - Programa de Extensão - UFMG
X-ORIGINAL-URL:https://www.ufmg.br/ciencianoar/conteudo/cuidado-com-parente/
X-WR-CALDESC:Cuidado Com Parente!
BEGIN:VEVENT
DTSTART:
DTEND:
SUMMARY:Cuidado Com Parente!
DESCRIPTION:Porque será que algumas mutações genéticas são mais prováveis de serem transmitidas para filhos de pessoas parentes? Como funciona esse mecanismo de herança? Ouça o programa completo e descubra!
LOCATION:
END:VEVENT
END:VCALENDAR
