BEGIN:VCALENDAR
VERSION:2.0
PRODID:-//Ciência no Ar - Programa de Extensão - UFMG
CALSCALE:GREGORIAN
METHOD:PUBLISH
X-WR-CALNAME:Ciência no Ar - Programa de Extensão - UFMG
X-ORIGINAL-URL:https://www.ufmg.br/ciencianoar/conteudo/que-viagem-tomou-o-que/
X-WR-CALDESC:Que viagem! Tomou o que?
BEGIN:VEVENT
DTSTART:
DTEND:
SUMMARY:Que viagem! Tomou o que?
DESCRIPTION:Ah, o mel... Um alimento tão docinho que dá água na boca! Mas você sabia que existem variedades desse líquido? O mel que popularmente conhecemos é produzido por uma espécie especifica de abelhinha. Ouça o programa para saber mais sobre esse assunto!
LOCATION:
END:VEVENT
END:VCALENDAR
