BEGIN:VCALENDAR
VERSION:2.0
PRODID:-//Ciência no Ar - Programa de Extensão - UFMG
CALSCALE:GREGORIAN
METHOD:PUBLISH
X-WR-CALNAME:Ciência no Ar - Programa de Extensão - UFMG
X-ORIGINAL-URL:https://www.ufmg.br/ciencianoar/conteudo/como-e-que-pesquisa-entao/
X-WR-CALDESC:Como é que pesquisa, então?
BEGIN:VEVENT
DTSTART:
DTEND:
SUMMARY:Como é que pesquisa, então?
DESCRIPTION:Você conhece algum autista? Pode ser que sim. Mas você sabe a dificuldade em pesquisar autismo?  O autismo não apresenta uma descrição de suas causas muito bem definida, como em outras patologias. 

LOCATION:
END:VEVENT
END:VCALENDAR
