BEGIN:VCALENDAR
VERSION:2.0
PRODID:-//Ciência no Ar - Programa de Extensão - UFMG
CALSCALE:GREGORIAN
METHOD:PUBLISH
X-WR-CALNAME:Ciência no Ar - Programa de Extensão - UFMG
X-ORIGINAL-URL:https://www.ufmg.br/ciencianoar/conteudo/estrelas-caindo-do-ceu/
X-WR-CALDESC:Estrelas caindo do céu
BEGIN:VEVENT
DTSTART:
DTEND:
SUMMARY:Estrelas caindo do céu
DESCRIPTION:Suponha que você está observando o céu à noite quando, de repente, uma estrela passa riscando a escuridão! A gente chama isso de estrela cadente, né? E ai, é hora de fazer um pedido, não é mesmo?
LOCATION:
END:VEVENT
END:VCALENDAR
