BEGIN:VCALENDAR
VERSION:2.0
PRODID:-//Ciência no Ar - Programa de Extensão - UFMG
CALSCALE:GREGORIAN
METHOD:PUBLISH
X-WR-CALNAME:Ciência no Ar - Programa de Extensão - UFMG
X-ORIGINAL-URL:https://www.ufmg.br/ciencianoar/conteudo/pilula-azul-verde-e-amarela/
X-WR-CALDESC:Pílula azul, verde e amarela
BEGIN:VEVENT
DTSTART:
DTEND:
SUMMARY:Pílula azul, verde e amarela
DESCRIPTION:Você já ouviu falar sobre  “a pílula azul”? Ao ouvir essa frase, algumas pessoas podem lembrar imediatamente do filme matrix, mas na verdade estou falando de um velho conhecido de fora das telonas: o Viagra.
LOCATION:
END:VEVENT
END:VCALENDAR
