BEGIN:VCALENDAR
VERSION:2.0
PRODID:-//Ciência no Ar - Programa de Extensão - UFMG
CALSCALE:GREGORIAN
METHOD:PUBLISH
X-WR-CALNAME:Ciência no Ar - Programa de Extensão - UFMG
X-ORIGINAL-URL:https://www.ufmg.br/ciencianoar/conteudo/abelhas-longe-do-radar/
X-WR-CALDESC:Abelhas longe do radar
BEGIN:VEVENT
DTSTART:
DTEND:
SUMMARY:Abelhas longe do radar
DESCRIPTION:Cada vez  vemos menos abelhas por ai... muito se tem falado sobre o desaparecimento das abelhas e os agrotóxicos têm sido vistos como uma das causas mais importantes. Entretanto, eles não são os únicos responsáveis por esse fenômeno. Ouça o programa completo para saber mais sobre esse assunto!
LOCATION:
END:VEVENT
END:VCALENDAR
