BEGIN:VCALENDAR
VERSION:2.0
PRODID:-//Ciência no Ar - Programa de Extensão - UFMG
CALSCALE:GREGORIAN
METHOD:PUBLISH
X-WR-CALNAME:Ciência no Ar - Programa de Extensão - UFMG
X-ORIGINAL-URL:https://www.ufmg.br/ciencianoar/conteudo/alternativas-importantes/
X-WR-CALDESC:Alternativas importantes
BEGIN:VEVENT
DTSTART:
DTEND:
SUMMARY:Alternativas importantes
DESCRIPTION:Ainda há um debate se os vírus são seres vivos ou não. Mas o que temos certeza é que eles precisam de outra célula para se multiplicar e depois se espalhar. E é aproveitando do próprio mecanismo dos vírus que pesquisadores da UFMG e da universidade de Yale fizeram uma descoberta que pode contribuir muito para o tratamento da Febre Amarela.
LOCATION:
END:VEVENT
END:VCALENDAR
