BEGIN:VCALENDAR
VERSION:2.0
PRODID:-//Ciência no Ar - Programa de Extensão - UFMG
CALSCALE:GREGORIAN
METHOD:PUBLISH
X-WR-CALNAME:Ciência no Ar - Programa de Extensão - UFMG
X-ORIGINAL-URL:https://www.ufmg.br/ciencianoar/conteudo/amigo-complicado/
X-WR-CALDESC:Amigo complicado
BEGIN:VEVENT
DTSTART:
DTEND:
SUMMARY:Amigo complicado
DESCRIPTION:O detergente comercial é o nosso melhor amigo quando falamos de limpeza. É usado diariamente, na maioria das vezes em quantidades maiores que a necessária. Só que, assim como a água e a sujeira, o detergente também desce pelo ralo… E depois? Dependendo de sua composição química e do local onde o produto vai parar, ele pode gerar sérias consequências.
LOCATION:
END:VEVENT
END:VCALENDAR
