BEGIN:VCALENDAR
VERSION:2.0
PRODID:-//Ciência no Ar - Programa de Extensão - UFMG
CALSCALE:GREGORIAN
METHOD:PUBLISH
X-WR-CALNAME:Ciência no Ar - Programa de Extensão - UFMG
X-ORIGINAL-URL:https://www.ufmg.br/ciencianoar/conteudo/gelado-e-misterioso/
X-WR-CALDESC:Gelado e Misterioso
BEGIN:VEVENT
DTSTART:
DTEND:
SUMMARY:Gelado e Misterioso
DESCRIPTION:Permafrost - talvez você não conheça essa palavra um pouco estranha, mas saiba que ela se refere à um tipo de solo muito interessante! E bem, bem gelado... Ouça o programa completo para descobrir mais sobre o permafrost e seus mistérios!
LOCATION:
END:VEVENT
END:VCALENDAR
