BEGIN:VCALENDAR
VERSION:2.0
PRODID:-//Ciência no Ar - Programa de Extensão - UFMG
CALSCALE:GREGORIAN
METHOD:PUBLISH
X-WR-CALNAME:Ciência no Ar - Programa de Extensão - UFMG
X-ORIGINAL-URL:https://www.ufmg.br/ciencianoar/conteudo/cha-de-que/
X-WR-CALDESC:Chá de Quê ?
BEGIN:VEVENT
DTSTART:
DTEND:
SUMMARY:Chá de Quê ?
DESCRIPTION:Você já deve ter feito ou tido contato com fitoterapia e não sabia disso. Para descobrir o poder medicinal das plantas ouça este programa.
LOCATION:
END:VEVENT
END:VCALENDAR
