BEGIN:VCALENDAR
VERSION:2.0
PRODID:-//Ciência no Ar - Programa de Extensão - UFMG
CALSCALE:GREGORIAN
METHOD:PUBLISH
X-WR-CALNAME:Ciência no Ar - Programa de Extensão - UFMG
X-ORIGINAL-URL:https://www.ufmg.br/ciencianoar/conteudo/big-data-e-a-ciencia-da-vida/
X-WR-CALDESC:Big Data e a ciência da vida
BEGIN:VEVENT
DTSTART:
DTEND:
SUMMARY:Big Data e a ciência da vida
DESCRIPTION:Ouça o programa completo para saber mais sobre o Big Data, tecnologia que possibilita pesquisa com quantidade gigantesca de dados... para mais avanços na ciência!
LOCATION:
END:VEVENT
END:VCALENDAR
