BEGIN:VCALENDAR
VERSION:2.0
PRODID:-//Ciência no Ar - Programa de Extensão - UFMG
CALSCALE:GREGORIAN
METHOD:PUBLISH
X-WR-CALNAME:Ciência no Ar - Programa de Extensão - UFMG
X-ORIGINAL-URL:https://www.ufmg.br/ciencianoar/conteudo/peixe-boi/
X-WR-CALDESC:Peixe-boi
BEGIN:VEVENT
DTSTART:
DTEND:
SUMMARY:Peixe-boi
DESCRIPTION:Você sabia que o estudo genético pode contribuir para a preservação de algumas espécies? Essa tecnologia é chamada de genética da conservação e pode ajudar muito a população de peixe-boi no Brasil. Quer saber por que? É só escutar o programa!
LOCATION:
END:VEVENT
END:VCALENDAR
