BEGIN:VCALENDAR
VERSION:2.0
PRODID:-//Ciência no Ar - Programa de Extensão - UFMG
CALSCALE:GREGORIAN
METHOD:PUBLISH
X-WR-CALNAME:Ciência no Ar - Programa de Extensão - UFMG
X-ORIGINAL-URL:https://www.ufmg.br/ciencianoar/conteudo/etnoecologia/
X-WR-CALDESC:Etnoecologia
BEGIN:VEVENT
DTSTART:
DTEND:
SUMMARY:Etnoecologia
DESCRIPTION:Você sabe o que é Etnoecologia? Este ramo da ciência estuda as maneiras como os homens de diversas culturas se preocupam com a manutenção e a utilização dos recursos naturais. Quer saber mais? É só escutar o programa.
LOCATION:
END:VEVENT
END:VCALENDAR
