BEGIN:VCALENDAR
VERSION:2.0
PRODID:-//Ciência no Ar - Programa de Extensão - UFMG
CALSCALE:GREGORIAN
METHOD:PUBLISH
X-WR-CALNAME:Ciência no Ar - Programa de Extensão - UFMG
X-ORIGINAL-URL:https://www.ufmg.br/ciencianoar/conteudo/aprendendo-com-o-fermento/
X-WR-CALDESC:Aprendendo com o fermento
BEGIN:VEVENT
DTSTART:
DTEND:
SUMMARY:Aprendendo com o fermento
DESCRIPTION:Você conhece as arquéias? As arquéias são seres procariotos, como as bactérias, mas que tem algumas semelhanças com os eucariotos. As leveduras são um exemplo de um grupo de eucariotos e é por isso que elas estão sendo usadas para ajudar nos estudos dos genes das arquéias. 
LOCATION:
END:VEVENT
END:VCALENDAR
