BEGIN:VCALENDAR
VERSION:2.0
PRODID:-//Ciência no Ar - Programa de Extensão - UFMG
CALSCALE:GREGORIAN
METHOD:PUBLISH
X-WR-CALNAME:Ciência no Ar - Programa de Extensão - UFMG
X-ORIGINAL-URL:https://www.ufmg.br/ciencianoar/conteudo/como-e-que-a-gente-aprende/
X-WR-CALDESC:Como é que a gente aprende?
BEGIN:VEVENT
DTSTART:
DTEND:
SUMMARY:Como é que a gente aprende?
DESCRIPTION:Vários  estímulos entram em nosso cérebro através das células nervosas chamadas de neurônios, os estímulos podem chegar  até nós através dos sentidos, como visão, audição, olfato, gustação, e tato! Quer saber mais sobre como funciona o nosso aprendizado? Fique ligado no "Na Onda da Vida"!
LOCATION:
END:VEVENT
END:VCALENDAR
