BEGIN:VCALENDAR
VERSION:2.0
PRODID:-//Ciência no Ar - Programa de Extensão - UFMG
CALSCALE:GREGORIAN
METHOD:PUBLISH
X-WR-CALNAME:Ciência no Ar - Programa de Extensão - UFMG
X-ORIGINAL-URL:https://www.ufmg.br/ciencianoar/conteudo/vitamina-c/
X-WR-CALDESC:Vitamina C
BEGIN:VEVENT
DTSTART:
DTEND:
SUMMARY:Vitamina C
DESCRIPTION:A vitamina C  é muito importante para a nossa saúde, ela atua como antioxidante, é essencial para manter nossa pele e gengivas saudáveis e ainda ajuda na absorção de ferro!
LOCATION:
END:VEVENT
END:VCALENDAR
