BEGIN:VCALENDAR
VERSION:2.0
PRODID:-//Ciência no Ar - Programa de Extensão - UFMG
CALSCALE:GREGORIAN
METHOD:PUBLISH
X-WR-CALNAME:Ciência no Ar - Programa de Extensão - UFMG
X-ORIGINAL-URL:https://www.ufmg.br/ciencianoar/conteudo/anemia-falciforme/
X-WR-CALDESC:Anemia falciforme
BEGIN:VEVENT
DTSTART:
DTEND:
SUMMARY:Anemia falciforme
DESCRIPTION:A anemia falciforme pode se manifestar sob duas formas. A mais grave delas é quando só ocorre produção de glóbulos vermelhos em forma de foice e o indivíduo vive por poucos anos. A manifestação mais branda é denominada “traço falcêmico”. Quer saber mais? Escute o programa!
LOCATION:
END:VEVENT
END:VCALENDAR
