BEGIN:VCALENDAR
VERSION:2.0
PRODID:-//Ciência no Ar - Programa de Extensão - UFMG
CALSCALE:GREGORIAN
METHOD:PUBLISH
X-WR-CALNAME:Ciência no Ar - Programa de Extensão - UFMG
X-ORIGINAL-URL:https://www.ufmg.br/ciencianoar/conteudo/o-bloom-das-algas-2/
X-WR-CALDESC:O &#8220;bloom&#8221; das algas
BEGIN:VEVENT
DTSTART:
DTEND:
SUMMARY:O &#8220;bloom&#8221; das algas
DESCRIPTION:O Laboratório de Ficologia do Instituto de Ciências Biológicas da UFMG estuda as algas de água doce. Lá eles analisam as populações de algas que vivem em reservatórios e lagos, estudando os fatores que alteram seu crescimento. Esse trabalho vem ganhando grande importância nos dias de hoje devido ao chamado “bloom” das algas ou “florações”.
LOCATION:
END:VEVENT
END:VCALENDAR
