BEGIN:VCALENDAR
VERSION:2.0
PRODID:-//Ciência no Ar - Programa de Extensão - UFMG
CALSCALE:GREGORIAN
METHOD:PUBLISH
X-WR-CALNAME:Ciência no Ar - Programa de Extensão - UFMG
X-ORIGINAL-URL:https://www.ufmg.br/ciencianoar/conteudo/h2o-a-molecula-de-agua/
X-WR-CALDESC:H2O: A Molécula de Água
BEGIN:VEVENT
DTSTART:
DTEND:
SUMMARY:H2O: A Molécula de Água
DESCRIPTION:Com certeza você já ouviu falar da famosa H2O, a molécula da água. Existe até uma bebida que leva esse nome, não é mesmo? Mas além de conhecer o nome, você sabe o que realmente é uma molécula? Por que a H2O é tão importante? Ouça o programa completo e descubra!
LOCATION:
END:VEVENT
END:VCALENDAR
