BEGIN:VCALENDAR
VERSION:2.0
PRODID:-//Ciência no Ar - Programa de Extensão - UFMG
CALSCALE:GREGORIAN
METHOD:PUBLISH
X-WR-CALNAME:Ciência no Ar - Programa de Extensão - UFMG
X-ORIGINAL-URL:https://www.ufmg.br/ciencianoar/conteudo/uso-consciente-da-agua/
X-WR-CALDESC:Uso Consciente da Água
BEGIN:VEVENT
DTSTART:
DTEND:
SUMMARY:Uso Consciente da Água
DESCRIPTION:Todos sabemos que sem água, nós não iríamos conseguir sobreviver na Terra. E apesar disso, o uso da água para as atividades antrópicas nem sempre é feito de maneira consciente. Ouça o programa completo e saiba mais sobre o uso desse recurso tão importante! 
LOCATION:
END:VEVENT
END:VCALENDAR
