BEGIN:VCALENDAR
VERSION:2.0
PRODID:-//Ciência no Ar - Programa de Extensão - UFMG
CALSCALE:GREGORIAN
METHOD:PUBLISH
X-WR-CALNAME:Ciência no Ar - Programa de Extensão - UFMG
X-ORIGINAL-URL:https://www.ufmg.br/ciencianoar/conteudo/o-que-e-o-cancer/
X-WR-CALDESC:O que é o câncer?
BEGIN:VEVENT
DTSTART:
DTEND:
SUMMARY:O que é o câncer?
DESCRIPTION:Falar sobre o câncer pode ser assustador para muitas pessoas, algo justificado pela gravidade dessa forma de doença. Mas você sabe por que ele acontece ou, por exemplo, a diferença entre um tumor benigno e maligno? Essas informações e mais no programa completo, não deixe de ouvir! 
LOCATION:
END:VEVENT
END:VCALENDAR
