BEGIN:VCALENDAR
VERSION:2.0
PRODID:-//Ciência no Ar - Programa de Extensão - UFMG
CALSCALE:GREGORIAN
METHOD:PUBLISH
X-WR-CALNAME:Ciência no Ar - Programa de Extensão - UFMG
X-ORIGINAL-URL:https://www.ufmg.br/ciencianoar/conteudo/o-que-e-biogeografia/
X-WR-CALDESC:O que é biogeografia?
BEGIN:VEVENT
DTSTART:
DTEND:
SUMMARY:O que é biogeografia?
DESCRIPTION:Biogeografia e filogeografia?! O que significam essas palavras esquisitas? Ouvindo o programa completo você descobre informações sobre essas áreas super interessantes da biologia!
LOCATION:
END:VEVENT
END:VCALENDAR
