BEGIN:VCALENDAR
VERSION:2.0
PRODID:-//Ciência no Ar - Programa de Extensão - UFMG
CALSCALE:GREGORIAN
METHOD:PUBLISH
X-WR-CALNAME:Ciência no Ar - Programa de Extensão - UFMG
X-ORIGINAL-URL:https://www.ufmg.br/ciencianoar/conteudo/chuva-acida/
X-WR-CALDESC:Chuva Ácida
BEGIN:VEVENT
DTSTART:
DTEND:
SUMMARY:Chuva Ácida
DESCRIPTION:A chuva é nutre muitos ecossistemas e tem um papel fundamental para a vida na Terra.. porém certos fatores podem contribuir para com que ela se torne detrimental para o bem estar de muitos seres vivos! Ouça o programa completo e saiba como isso acontece. 
LOCATION:
END:VEVENT
END:VCALENDAR
