BEGIN:VCALENDAR
VERSION:2.0
PRODID:-//Ciência no Ar - Programa de Extensão - UFMG
CALSCALE:GREGORIAN
METHOD:PUBLISH
X-WR-CALNAME:Ciência no Ar - Programa de Extensão - UFMG
X-ORIGINAL-URL:https://www.ufmg.br/ciencianoar/conteudo/unhas-e-cabelos-imortais/
X-WR-CALDESC:Unhas e Cabelos Imortais
BEGIN:VEVENT
DTSTART:
DTEND:
SUMMARY:Unhas e Cabelos Imortais
DESCRIPTION:Você já ouviu alguém dizer que as unhas e cabelos continuam crescendo mesmo depois que alguém morre?? Essa ideia ganhou muita popularidade e muitos acreditam que é verdade, mas a ciência explica que não é bem assim! Ouça o programa completo e descubra. 
LOCATION:
END:VEVENT
END:VCALENDAR
