BEGIN:VCALENDAR
VERSION:2.0
PRODID:-//Ciência no Ar - Programa de Extensão - UFMG
CALSCALE:GREGORIAN
METHOD:PUBLISH
X-WR-CALNAME:Ciência no Ar - Programa de Extensão - UFMG
X-ORIGINAL-URL:https://www.ufmg.br/ciencianoar/conteudo/contem-gluten/
X-WR-CALDESC:Contém Glúten
BEGIN:VEVENT
DTSTART:
DTEND:
SUMMARY:Contém Glúten
DESCRIPTION:O glúten é muito comum e está presente em muitos alimentos, mas ele pode ser um grande risco para certas pessoas! Entenda mais ouvindo o programa completo! 
LOCATION:
END:VEVENT
END:VCALENDAR
